BEGIN:VCALENDAR
VERSION:2.0
PRODID:-//Grangefield School - ECPv6.15.13.1//NONSGML v1.0//EN
CALSCALE:GREGORIAN
METHOD:PUBLISH
X-WR-CALNAME:Grangefield School
X-ORIGINAL-URL:https://grangefield.gloucs.sch.uk
X-WR-CALDESC:Events for Grangefield School
REFRESH-INTERVAL;VALUE=DURATION:PT1H
X-Robots-Tag:noindex
X-PUBLISHED-TTL:PT1H
BEGIN:VTIMEZONE
TZID:UTC
BEGIN:STANDARD
TZOFFSETFROM:+0000
TZOFFSETTO:+0000
TZNAME:UTC
DTSTART:20250101T000000
END:STANDARD
END:VTIMEZONE
BEGIN:VEVENT
DTSTART;VALUE=DATE:20260720
DTEND;VALUE=DATE:20260721
DTSTAMP:20260420T124547
CREATED:20240507T101356Z
LAST-MODIFIED:20251104T101408Z
UID:10373-1784505600-1784591999@grangefield.gloucs.sch.uk
SUMMARY:Inset Day
DESCRIPTION:
URL:https://grangefield.gloucs.sch.uk/event/inset-day-25/
CATEGORIES:Inset
END:VEVENT
END:VCALENDAR