BEGIN:VCALENDAR
VERSION:2.0
PRODID:-//Grangefield School - ECPv6.15.13.1//NONSGML v1.0//EN
CALSCALE:GREGORIAN
METHOD:PUBLISH
X-WR-CALNAME:Grangefield School
X-ORIGINAL-URL:https://grangefield.gloucs.sch.uk
X-WR-CALDESC:Events for Grangefield School
REFRESH-INTERVAL;VALUE=DURATION:PT1H
X-Robots-Tag:noindex
X-PUBLISHED-TTL:PT1H
BEGIN:VTIMEZONE
TZID:UTC
BEGIN:STANDARD
TZOFFSETFROM:+0000
TZOFFSETTO:+0000
TZNAME:UTC
DTSTART:20240101T000000
END:STANDARD
END:VTIMEZONE
BEGIN:VEVENT
DTSTART;TZID=UTC:20251208T140000
DTEND;TZID=UTC:20251208T150000
DTSTAMP:20260420T145000
CREATED:20250609T104103Z
LAST-MODIFIED:20251104T101227Z
UID:11174-1765202400-1765206000@grangefield.gloucs.sch.uk
SUMMARY:Rock Steady Concert
DESCRIPTION:
URL:https://grangefield.gloucs.sch.uk/event/rock-steady-concert/
CATEGORIES:Performance
END:VEVENT
BEGIN:VEVENT
DTSTART;TZID=UTC:20251211T143000
DTEND;TZID=UTC:20251211T151500
DTSTAMP:20260420T145000
CREATED:20251104T102500Z
LAST-MODIFIED:20251111T142534Z
UID:11540-1765463400-1765466100@grangefield.gloucs.sch.uk
SUMMARY:Reception Nativity
DESCRIPTION:Information about tickets purchases will be sent shortly
URL:https://grangefield.gloucs.sch.uk/event/reception-nativity/
CATEGORIES:Performance
END:VEVENT
BEGIN:VEVENT
DTSTART;TZID=UTC:20251215T141500
DTEND;TZID=UTC:20251215T151500
DTSTAMP:20260420T145000
CREATED:20251104T102618Z
LAST-MODIFIED:20251104T102618Z
UID:11542-1765808100-1765811700@grangefield.gloucs.sch.uk
SUMMARY:Year 3 & 4 Christmas Performance
DESCRIPTION:Information about ticket purchases will be sent shortly
URL:https://grangefield.gloucs.sch.uk/event/year-3-4-christmas-performance/
CATEGORIES:Performance
END:VEVENT
BEGIN:VEVENT
DTSTART;TZID=UTC:20251216T091500
DTEND;TZID=UTC:20251216T101500
DTSTAMP:20260420T145000
CREATED:20251104T102719Z
LAST-MODIFIED:20251104T102719Z
UID:11544-1765876500-1765880100@grangefield.gloucs.sch.uk
SUMMARY:Year 3 & 4 Christmas Performance
DESCRIPTION:Information about ticket purchases will be sent shortly
URL:https://grangefield.gloucs.sch.uk/event/year-3-4-christmas-performance-2/
CATEGORIES:Performance
END:VEVENT
BEGIN:VEVENT
DTSTART;TZID=UTC:20251216T143000
DTEND;TZID=UTC:20251216T151500
DTSTAMP:20260420T145000
CREATED:20251104T102848Z
LAST-MODIFIED:20251104T102848Z
UID:11546-1765895400-1765898100@grangefield.gloucs.sch.uk
SUMMARY:Year 1 & 2 Carols at the Church
DESCRIPTION:
URL:https://grangefield.gloucs.sch.uk/event/year-1-2-carols-at-the-church/
CATEGORIES:Performance
END:VEVENT
BEGIN:VEVENT
DTSTART;TZID=UTC:20251217T143000
DTEND;TZID=UTC:20251217T151500
DTSTAMP:20260420T145000
CREATED:20251104T102927Z
LAST-MODIFIED:20251104T102927Z
UID:11548-1765981800-1765984500@grangefield.gloucs.sch.uk
SUMMARY:Year 5 & 6 Carols at the Church
DESCRIPTION:
URL:https://grangefield.gloucs.sch.uk/event/year-5-6-carols-at-the-church/
CATEGORIES:Performance
END:VEVENT
END:VCALENDAR