BEGIN:VCALENDAR
VERSION:2.0
PRODID:-//Grangefield School - ECPv6.15.13.1//NONSGML v1.0//EN
CALSCALE:GREGORIAN
METHOD:PUBLISH
X-ORIGINAL-URL:https://grangefield.gloucs.sch.uk
X-WR-CALDESC:Events for Grangefield School
REFRESH-INTERVAL;VALUE=DURATION:PT1H
X-Robots-Tag:noindex
X-PUBLISHED-TTL:PT1H
BEGIN:VTIMEZONE
TZID:UTC
BEGIN:STANDARD
TZOFFSETFROM:+0000
TZOFFSETTO:+0000
TZNAME:UTC
DTSTART:20230101T000000
END:STANDARD
END:VTIMEZONE
BEGIN:VEVENT
DTSTART;TZID=UTC:20240930T080000
DTEND;TZID=UTC:20241001T150000
DTSTAMP:20260420T180352
CREATED:20240905T092829Z
LAST-MODIFIED:20240905T092829Z
UID:10539-1727683200-1727794800@grangefield.gloucs.sch.uk
SUMMARY:Nasal Flu Vaccination Programme
DESCRIPTION:The School Nurse Immunisation Team will be in school on Monday 30th September and Tuesday 1st October to carry out the Nasal Flu Vaccination Programme.\n\nFor ease\, here is the link and our school’s unique code for the consent form:\n\nhttps://www.ghcimmunisations.co.uk/Forms/Flu\n\nGrangefield Primary School Unique Code: GC131784
URL:https://grangefield.gloucs.sch.uk/event/nasal-flu-vaccination-programme/
CATEGORIES:School Nurse Team
END:VEVENT
END:VCALENDAR