BEGIN:VCALENDAR
VERSION:2.0
PRODID:-//Grangefield School - ECPv6.15.13.1//NONSGML v1.0//EN
CALSCALE:GREGORIAN
METHOD:PUBLISH
X-WR-CALNAME:Grangefield School
X-ORIGINAL-URL:https://grangefield.gloucs.sch.uk
X-WR-CALDESC:Events for Grangefield School
REFRESH-INTERVAL;VALUE=DURATION:PT1H
X-Robots-Tag:noindex
X-PUBLISHED-TTL:PT1H
BEGIN:VTIMEZONE
TZID:UTC
BEGIN:STANDARD
TZOFFSETFROM:+0000
TZOFFSETTO:+0000
TZNAME:UTC
DTSTART:20240101T000000
END:STANDARD
END:VTIMEZONE
BEGIN:VEVENT
DTSTART;VALUE=DATE:20251113
DTEND;VALUE=DATE:20251114
DTSTAMP:20260420T215708
CREATED:20251105T113527Z
LAST-MODIFIED:20251105T113527Z
UID:11558-1762992000-1763078399@grangefield.gloucs.sch.uk
SUMMARY:Owl Cross Country - Year 1 - 6
DESCRIPTION:Our annual Owl Group Cross Country will be taking place on Thursday 13 November\, therefore children in Year 1 – 6 must wear their PE kit on school on this day. \nWe will also be having a Welly Walk for those children who do not wish to take part in the Cross Country Run. \nThose children participating in the Cross Country\, where possible\, should bring a spare pair of shoes / trainers to change into after the race. \nThose wishing to take part in the Welly Walk should bring a pair of wellies or old trainers to change into for the walk.
URL:https://grangefield.gloucs.sch.uk/event/owl-cross-country-year-1-6/
CATEGORIES:Sport Fixtures
END:VEVENT
END:VCALENDAR