BEGIN:VCALENDAR
VERSION:2.0
PRODID:-//Grangefield School - ECPv6.15.13.1//NONSGML v1.0//EN
CALSCALE:GREGORIAN
METHOD:PUBLISH
X-ORIGINAL-URL:https://grangefield.gloucs.sch.uk
X-WR-CALDESC:Events for Grangefield School
REFRESH-INTERVAL;VALUE=DURATION:PT1H
X-Robots-Tag:noindex
X-PUBLISHED-TTL:PT1H
BEGIN:VTIMEZONE
TZID:UTC
BEGIN:STANDARD
TZOFFSETFROM:+0000
TZOFFSETTO:+0000
TZNAME:UTC
DTSTART:20240101T000000
END:STANDARD
END:VTIMEZONE
BEGIN:VEVENT
DTSTART;VALUE=DATE:20251222
DTEND;VALUE=DATE:20260103
DTSTAMP:20260420T141933
CREATED:20240507T100226Z
LAST-MODIFIED:20251104T100224Z
UID:10343-1766361600-1767398399@grangefield.gloucs.sch.uk
SUMMARY:Christmas Holidays
DESCRIPTION:
URL:https://grangefield.gloucs.sch.uk/event/christmas-holidays-3/
CATEGORIES:Term Dates
END:VEVENT
BEGIN:VEVENT
DTSTART;VALUE=DATE:20260106
DTEND;VALUE=DATE:20260107
DTSTAMP:20260420T141933
CREATED:20240507T100450Z
LAST-MODIFIED:20251104T100348Z
UID:10349-1767657600-1767743999@grangefield.gloucs.sch.uk
SUMMARY:Term 3 Begins
DESCRIPTION:
URL:https://grangefield.gloucs.sch.uk/event/term-3-begins/
CATEGORIES:Term Dates
END:VEVENT
END:VCALENDAR