BEGIN:VCALENDAR
VERSION:2.0
PRODID:-//Grangefield School - ECPv6.15.13.1//NONSGML v1.0//EN
CALSCALE:GREGORIAN
METHOD:PUBLISH
X-WR-CALNAME:Grangefield School
X-ORIGINAL-URL:https://grangefield.gloucs.sch.uk
X-WR-CALDESC:Events for Grangefield School
REFRESH-INTERVAL;VALUE=DURATION:PT1H
X-Robots-Tag:noindex
X-PUBLISHED-TTL:PT1H
BEGIN:VTIMEZONE
TZID:UTC
BEGIN:STANDARD
TZOFFSETFROM:+0000
TZOFFSETTO:+0000
TZNAME:UTC
DTSTART:20250101T000000
END:STANDARD
END:VTIMEZONE
BEGIN:VEVENT
DTSTART;VALUE=DATE:20260504
DTEND;VALUE=DATE:20260505
DTSTAMP:20260420T111520
CREATED:20240507T100933Z
LAST-MODIFIED:20251104T100908Z
UID:10363-1777852800-1777939199@grangefield.gloucs.sch.uk
SUMMARY:May Bank Holiday
DESCRIPTION:
URL:https://grangefield.gloucs.sch.uk/event/may-bank-holiday/
CATEGORIES:Term Dates
END:VEVENT
BEGIN:VEVENT
DTSTART;VALUE=DATE:20260522
DTEND;VALUE=DATE:20260523
DTSTAMP:20260420T111520
CREATED:20240507T101020Z
LAST-MODIFIED:20251104T100937Z
UID:10365-1779408000-1779494399@grangefield.gloucs.sch.uk
SUMMARY:Term 5 Ends (3:15pm Finish)
DESCRIPTION:
URL:https://grangefield.gloucs.sch.uk/event/term-5-ends-315pm-finish/
CATEGORIES:Term Dates
END:VEVENT
BEGIN:VEVENT
DTSTART;VALUE=DATE:20260525
DTEND;VALUE=DATE:20260530
DTSTAMP:20260420T111520
CREATED:20240507T101049Z
LAST-MODIFIED:20251104T101006Z
UID:10367-1779667200-1780099199@grangefield.gloucs.sch.uk
SUMMARY:Half Term
DESCRIPTION:
URL:https://grangefield.gloucs.sch.uk/event/half-term-17/
CATEGORIES:Term Dates
END:VEVENT
END:VCALENDAR