BEGIN:VCALENDAR
VERSION:2.0
PRODID:-//Grangefield School - ECPv6.15.13.1//NONSGML v1.0//EN
CALSCALE:GREGORIAN
METHOD:PUBLISH
X-ORIGINAL-URL:https://grangefield.gloucs.sch.uk
X-WR-CALDESC:Events for Grangefield School
REFRESH-INTERVAL;VALUE=DURATION:PT1H
X-Robots-Tag:noindex
X-PUBLISHED-TTL:PT1H
BEGIN:VTIMEZONE
TZID:UTC
BEGIN:STANDARD
TZOFFSETFROM:+0000
TZOFFSETTO:+0000
TZNAME:UTC
DTSTART:20250101T000000
END:STANDARD
END:VTIMEZONE
BEGIN:VEVENT
DTSTART;VALUE=DATE:20260903
DTEND;VALUE=DATE:20260904
DTSTAMP:20260420T171834
CREATED:20260120T111247Z
LAST-MODIFIED:20260120T111316Z
UID:11808-1788393600-1788479999@grangefield.gloucs.sch.uk
SUMMARY:Term 1 Begins
DESCRIPTION:
URL:https://grangefield.gloucs.sch.uk/event/term-1-begins-2/
CATEGORIES:Term Dates
END:VEVENT
END:VCALENDAR